BEGIN:VCALENDAR
VERSION:2.0
PRODID:-//Comité de Défense de Badones - Montimas - ECPv6.15.20//NONSGML v1.0//EN
CALSCALE:GREGORIAN
METHOD:PUBLISH
X-WR-CALNAME:Comité de Défense de Badones - Montimas
X-ORIGINAL-URL:https://comite-badones-montimas.fr
X-WR-CALDESC:Évènements pour Comité de Défense de Badones - Montimas
REFRESH-INTERVAL;VALUE=DURATION:PT1H
X-Robots-Tag:noindex
X-PUBLISHED-TTL:PT1H
BEGIN:VTIMEZONE
TZID:Europe/Paris
BEGIN:DAYLIGHT
TZOFFSETFROM:+0100
TZOFFSETTO:+0200
TZNAME:CEST
DTSTART:20230326T010000
END:DAYLIGHT
BEGIN:STANDARD
TZOFFSETFROM:+0200
TZOFFSETTO:+0100
TZNAME:CET
DTSTART:20231029T010000
END:STANDARD
BEGIN:DAYLIGHT
TZOFFSETFROM:+0100
TZOFFSETTO:+0200
TZNAME:CEST
DTSTART:20240331T010000
END:DAYLIGHT
BEGIN:STANDARD
TZOFFSETFROM:+0200
TZOFFSETTO:+0100
TZNAME:CET
DTSTART:20241027T010000
END:STANDARD
BEGIN:DAYLIGHT
TZOFFSETFROM:+0100
TZOFFSETTO:+0200
TZNAME:CEST
DTSTART:20250330T010000
END:DAYLIGHT
BEGIN:STANDARD
TZOFFSETFROM:+0200
TZOFFSETTO:+0100
TZNAME:CET
DTSTART:20251026T010000
END:STANDARD
END:VTIMEZONE
BEGIN:VEVENT
DTSTART;TZID=Europe/Paris:20240427T160000
DTEND;TZID=Europe/Paris:20240427T180000
DTSTAMP:20260423T082945
CREATED:20240412T205547Z
LAST-MODIFIED:20240412T231451Z
UID:30445-1714233600-1714240800@comite-badones-montimas.fr
SUMMARY:Réunion d'information au sujet de la décharge
DESCRIPTION:Lieu : Le Clos de Maussanne\, route de Pézenas (ancien domaine de Montpeyroux) \n\n\n\nPour toutes celles et tous ceux qui ont subi ou subissent encore les nuisances de la décharge (odeurs\, gaz toxiques\, dépréciation des biens\, difficultés professionnelles\, etc.)\, cette réunion permettra de faire le point et de présenter l’action engagée par le CDBM pour tenter d’obtenir réparation auprès de l’Etat et de l’Agglo.
URL:https://comite-badones-montimas.fr/evenement/reunion-dinformation-decharge/
ATTACH;FMTTYPE=image/jpeg:https://comite-badones-montimas.fr/wp-content/uploads/2024/04/IMG_20240409_1626363-plaque-Clos-de-Maussanne-LD-pour-internet-scaled.jpg
END:VEVENT
END:VCALENDAR