BEGIN:VCALENDAR
VERSION:2.0
PRODID:-//Comité de Défense de Badones - Montimas - ECPv6.15.20//NONSGML v1.0//EN
CALSCALE:GREGORIAN
METHOD:PUBLISH
X-WR-CALNAME:Comité de Défense de Badones - Montimas
X-ORIGINAL-URL:https://comite-badones-montimas.fr
X-WR-CALDESC:Évènements pour Comité de Défense de Badones - Montimas
REFRESH-INTERVAL;VALUE=DURATION:PT1H
X-Robots-Tag:noindex
X-PUBLISHED-TTL:PT1H
BEGIN:VTIMEZONE
TZID:Europe/Paris
BEGIN:DAYLIGHT
TZOFFSETFROM:+0100
TZOFFSETTO:+0200
TZNAME:CEST
DTSTART:20240331T010000
END:DAYLIGHT
BEGIN:STANDARD
TZOFFSETFROM:+0200
TZOFFSETTO:+0100
TZNAME:CET
DTSTART:20241027T010000
END:STANDARD
BEGIN:DAYLIGHT
TZOFFSETFROM:+0100
TZOFFSETTO:+0200
TZNAME:CEST
DTSTART:20250330T010000
END:DAYLIGHT
BEGIN:STANDARD
TZOFFSETFROM:+0200
TZOFFSETTO:+0100
TZNAME:CET
DTSTART:20251026T010000
END:STANDARD
BEGIN:DAYLIGHT
TZOFFSETFROM:+0100
TZOFFSETTO:+0200
TZNAME:CEST
DTSTART:20260329T010000
END:DAYLIGHT
BEGIN:STANDARD
TZOFFSETFROM:+0200
TZOFFSETTO:+0100
TZNAME:CET
DTSTART:20261025T010000
END:STANDARD
END:VTIMEZONE
BEGIN:VEVENT
DTSTART;TZID=Europe/Paris:20251012T120000
DTEND;TZID=Europe/Paris:20251012T160000
DTSTAMP:20260425T221517
CREATED:20250928T210916Z
LAST-MODIFIED:20250928T210918Z
UID:31576-1760270400-1760284800@comite-badones-montimas.fr
SUMMARY:Repas de quartier
DESCRIPTION:Venez partager un moment de convivialité autour d’un aligot-saucisse.
URL:https://comite-badones-montimas.fr/evenement/repas-de-quartier-4/
LOCATION:Les Hauts de Badones\, chemin rural n°61 (partie nord)\, n°10/409\, Béziers
END:VEVENT
BEGIN:VEVENT
DTSTART;TZID=Europe/Paris:20251012T153000
DTEND;TZID=Europe/Paris:20251012T180000
DTSTAMP:20260425T221517
CREATED:20250928T212642Z
LAST-MODIFIED:20250928T212644Z
UID:31583-1760283000-1760292000@comite-badones-montimas.fr
SUMMARY:Animation Pik'Tro
DESCRIPTION:Les tiques et les chenilles processionnaires.  \n\n\n\nVenez découvrir leur mode de vie et comment éviter leurs nuisances.
URL:https://comite-badones-montimas.fr/evenement/animation-piktro-2/
LOCATION:Les Hauts de Badones\, Chemin rural n°61 (partie nord)\, n°10/409\, Béziers
END:VEVENT
END:VCALENDAR