BEGIN:VCALENDAR
VERSION:2.0
PRODID:-//Comité de Défense de Badones - Montimas - ECPv6.15.20//NONSGML v1.0//EN
CALSCALE:GREGORIAN
METHOD:PUBLISH
X-ORIGINAL-URL:https://comite-badones-montimas.fr
X-WR-CALDESC:Évènements pour Comité de Défense de Badones - Montimas
REFRESH-INTERVAL;VALUE=DURATION:PT1H
X-Robots-Tag:noindex
X-PUBLISHED-TTL:PT1H
BEGIN:VTIMEZONE
TZID:Europe/Paris
BEGIN:DAYLIGHT
TZOFFSETFROM:+0100
TZOFFSETTO:+0200
TZNAME:CEST
DTSTART:20230326T010000
END:DAYLIGHT
BEGIN:STANDARD
TZOFFSETFROM:+0200
TZOFFSETTO:+0100
TZNAME:CET
DTSTART:20231029T010000
END:STANDARD
BEGIN:DAYLIGHT
TZOFFSETFROM:+0100
TZOFFSETTO:+0200
TZNAME:CEST
DTSTART:20240331T010000
END:DAYLIGHT
BEGIN:STANDARD
TZOFFSETFROM:+0200
TZOFFSETTO:+0100
TZNAME:CET
DTSTART:20241027T010000
END:STANDARD
BEGIN:DAYLIGHT
TZOFFSETFROM:+0100
TZOFFSETTO:+0200
TZNAME:CEST
DTSTART:20250330T010000
END:DAYLIGHT
BEGIN:STANDARD
TZOFFSETFROM:+0200
TZOFFSETTO:+0100
TZNAME:CET
DTSTART:20251026T010000
END:STANDARD
END:VTIMEZONE
BEGIN:VEVENT
DTSTART;TZID=Europe/Paris:20240531T193000
DTEND;TZID=Europe/Paris:20240531T230000
DTSTAMP:20260423T101912
CREATED:20240412T230403Z
LAST-MODIFIED:20240412T231136Z
UID:31299-1717183800-1717196400@comite-badones-montimas.fr
SUMMARY:Fête des Voisins 2024
DESCRIPTION:Lieu : chemin rural n°61 (partie nord)\, suivre le fléchage du n°10 (après l’Oliveraie de Bellevue) \n\n\n\nLa Fête des Voisins est ouverte à toutes et tous les habitant(e)s du quartier. Chacun apporte quelque chose à manger ou à boire et amène assiette\, verre et couverts. L’apéritif est offert par le comité de quartier.
URL:https://comite-badones-montimas.fr/evenement/fete-des-voisins-2024/
ATTACH;FMTTYPE=image/jpeg:https://comite-badones-montimas.fr/wp-content/uploads/2024/04/Visuel-Fete-des-Voisins-2024-LD-rec.jpg
END:VEVENT
END:VCALENDAR