BEGIN:VCALENDAR
VERSION:2.0
PRODID:-//Comité de Défense de Badones - Montimas - ECPv6.15.20//NONSGML v1.0//EN
CALSCALE:GREGORIAN
METHOD:PUBLISH
X-ORIGINAL-URL:https://comite-badones-montimas.fr
X-WR-CALDESC:Évènements pour Comité de Défense de Badones - Montimas
REFRESH-INTERVAL;VALUE=DURATION:PT1H
X-Robots-Tag:noindex
X-PUBLISHED-TTL:PT1H
BEGIN:VTIMEZONE
TZID:Europe/Paris
BEGIN:DAYLIGHT
TZOFFSETFROM:+0100
TZOFFSETTO:+0200
TZNAME:CEST
DTSTART:20220327T010000
END:DAYLIGHT
BEGIN:STANDARD
TZOFFSETFROM:+0200
TZOFFSETTO:+0100
TZNAME:CET
DTSTART:20221030T010000
END:STANDARD
BEGIN:DAYLIGHT
TZOFFSETFROM:+0100
TZOFFSETTO:+0200
TZNAME:CEST
DTSTART:20230326T010000
END:DAYLIGHT
BEGIN:STANDARD
TZOFFSETFROM:+0200
TZOFFSETTO:+0100
TZNAME:CET
DTSTART:20231029T010000
END:STANDARD
BEGIN:DAYLIGHT
TZOFFSETFROM:+0100
TZOFFSETTO:+0200
TZNAME:CEST
DTSTART:20240331T010000
END:DAYLIGHT
BEGIN:STANDARD
TZOFFSETFROM:+0200
TZOFFSETTO:+0100
TZNAME:CET
DTSTART:20241027T010000
END:STANDARD
END:VTIMEZONE
BEGIN:VEVENT
DTSTART;TZID=Europe/Paris:20231015T120000
DTEND;TZID=Europe/Paris:20231015T160000
DTSTAMP:20260426T053138
CREATED:20230930T171720Z
LAST-MODIFIED:20230930T201032Z
UID:31084-1697371200-1697385600@comite-badones-montimas.fr
SUMMARY:Repas de quartier
DESCRIPTION:Habitant(e)s du quartier et ami(e)s\, venez partager un moment de convivialité. Menu ci-dessous pour 20 euros par personne (10 euros pour les enfants jusqu’à 12 ans). Inscription préalable obligatoire avant le 9 octobre 2023 (voir le bulletin d’inscription en pages actualité). \n\n\n\nInscription et paiement en ligne possibles sur le site internet HelloAsso : \n\n\n\nhttps://www.helloasso.com/associations/comite-de-defense-de-badones-montimas-cdbm/evenements/inscription-au-repas-de-quartier-du-15-octobre-2023
URL:https://comite-badones-montimas.fr/evenement/repas-de-quartier-2/
ATTACH;FMTTYPE=image/jpeg:https://comite-badones-montimas.fr/wp-content/uploads/2023/09/Menu-et-visuel-repas-151023-1.jpg
END:VEVENT
END:VCALENDAR